BEGIN:VCALENDAR
VERSION:2.0
PRODID:-//Laure Cholé - ECPv6.5.0//NONSGML v1.0//EN
CALSCALE:GREGORIAN
METHOD:PUBLISH
X-WR-CALNAME:Laure Cholé
X-ORIGINAL-URL:https://www.laurechole.com
X-WR-CALDESC:évènements pour Laure Cholé
REFRESH-INTERVAL;VALUE=DURATION:PT1H
X-Robots-Tag:noindex
X-PUBLISHED-TTL:PT1H
BEGIN:VTIMEZONE
TZID:Europe/Zurich
BEGIN:DAYLIGHT
TZOFFSETFROM:+0100
TZOFFSETTO:+0200
TZNAME:CEST
DTSTART:20250330T010000
END:DAYLIGHT
BEGIN:STANDARD
TZOFFSETFROM:+0200
TZOFFSETTO:+0100
TZNAME:CET
DTSTART:20251026T010000
END:STANDARD
END:VTIMEZONE
BEGIN:VEVENT
DTSTART;TZID=Europe/Zurich:20250117T200000
DTEND;TZID=Europe/Zurich:20250117T220000
DTSTAMP:20260423T124009
CREATED:20240902T102823Z
LAST-MODIFIED:20241123T211557Z
UID:29853-1737144000-1737151200@www.laurechole.com
SUMMARY:Festival Auriol en Sol
DESCRIPTION:Récital avec Elise Bertrand\, Espace Culturel Confluence Auriol \nConcert du 17 Janvier 2025
URL:https://www.laurechole.com/event/festival-auriol-en-sol/
LOCATION:Espace Culturel Confluence Auriol\, 1 Rue Jean Ferrat\, Auriol\, 13390\, France
END:VEVENT
END:VCALENDAR