BEGIN:VCALENDAR
VERSION:2.0
PRODID:-//Laure Cholé - ECPv6.5.0//NONSGML v1.0//EN
CALSCALE:GREGORIAN
METHOD:PUBLISH
X-ORIGINAL-URL:https://www.laurechole.com
X-WR-CALDESC:évènements pour Laure Cholé
REFRESH-INTERVAL;VALUE=DURATION:PT1H
X-Robots-Tag:noindex
X-PUBLISHED-TTL:PT1H
BEGIN:VTIMEZONE
TZID:Europe/Zurich
BEGIN:DAYLIGHT
TZOFFSETFROM:+0100
TZOFFSETTO:+0200
TZNAME:CEST
DTSTART:20250330T010000
END:DAYLIGHT
BEGIN:STANDARD
TZOFFSETFROM:+0200
TZOFFSETTO:+0100
TZNAME:CET
DTSTART:20251026T010000
END:STANDARD
END:VTIMEZONE
BEGIN:VEVENT
DTSTART;TZID=Europe/Zurich:20250119T170000
DTEND;TZID=Europe/Zurich:20250119T190000
DTSTAMP:20260421T145622
CREATED:20241203T212818Z
LAST-MODIFIED:20250106T085346Z
UID:29995-1737306000-1737313200@www.laurechole.com
SUMMARY:Le Toit des Arts\, Paris
DESCRIPTION:Récital avec la violoncelliste Adèle Théveneau ( Beethoven\, Debussy\, Boulanger\, Brahms ) \nOrganisé par l’association le Toit des Arts
URL:https://www.laurechole.com/event/recital-avec-adele-theveneau/
LOCATION:Paris
END:VEVENT
END:VCALENDAR