BEGIN:VCALENDAR
VERSION:2.0
PRODID:-//Laure Cholé - ECPv6.5.0//NONSGML v1.0//EN
CALSCALE:GREGORIAN
METHOD:PUBLISH
X-WR-CALNAME:Laure Cholé
X-ORIGINAL-URL:https://www.laurechole.com
X-WR-CALDESC:évènements pour Laure Cholé
REFRESH-INTERVAL;VALUE=DURATION:PT1H
X-Robots-Tag:noindex
X-PUBLISHED-TTL:PT1H
BEGIN:VTIMEZONE
TZID:Europe/Zurich
BEGIN:DAYLIGHT
TZOFFSETFROM:+0100
TZOFFSETTO:+0200
TZNAME:CEST
DTSTART:20260329T010000
END:DAYLIGHT
BEGIN:STANDARD
TZOFFSETFROM:+0200
TZOFFSETTO:+0100
TZNAME:CET
DTSTART:20261025T010000
END:STANDARD
END:VTIMEZONE
BEGIN:VEVENT
DTSTART;TZID=Europe/Zurich:20260304T180000
DTEND;TZID=Europe/Zurich:20260304T200000
DTSTAMP:20260425T175857
CREATED:20260108T134043Z
LAST-MODIFIED:20260108T134043Z
UID:30267-1772647200-1772654400@www.laurechole.com
SUMMARY:Espace Léo Ferré\, Monaco
DESCRIPTION:Concert à l’Espace Léo Ferré\, Monaco
URL:https://www.laurechole.com/event/espace-leo-ferre-monaco/
LOCATION:Espace Léo Ferré\, Monaco
END:VEVENT
END:VCALENDAR