BEGIN:VCALENDAR
VERSION:2.0
PRODID:-//Laure Cholé - ECPv6.5.0//NONSGML v1.0//EN
CALSCALE:GREGORIAN
METHOD:PUBLISH
X-ORIGINAL-URL:https://www.laurechole.com
X-WR-CALDESC:évènements pour Laure Cholé
REFRESH-INTERVAL;VALUE=DURATION:PT1H
X-Robots-Tag:noindex
X-PUBLISHED-TTL:PT1H
BEGIN:VTIMEZONE
TZID:Europe/Zurich
BEGIN:DAYLIGHT
TZOFFSETFROM:+0100
TZOFFSETTO:+0200
TZNAME:CEST
DTSTART:20260329T010000
END:DAYLIGHT
BEGIN:STANDARD
TZOFFSETFROM:+0200
TZOFFSETTO:+0100
TZNAME:CET
DTSTART:20261025T010000
END:STANDARD
END:VTIMEZONE
BEGIN:VEVENT
DTSTART;VALUE=DATE:20260315
DTEND;VALUE=DATE:20260316
DTSTAMP:20260425T184304
CREATED:20251016T202628Z
LAST-MODIFIED:20251016T203655Z
UID:30161-1773532800-1773619199@www.laurechole.com
SUMMARY:Coup de cœur Pianissimes
DESCRIPTION:Récital Salle Cortot dans le cadre des Coups de cœur des Pianissimes
URL:https://www.laurechole.com/event/coup-de-coeur-pianissimes/
LOCATION:Salle Cortot\, 78 Rue Cardinet\, Paris\, 75017
END:VEVENT
END:VCALENDAR