BEGIN:VCALENDAR
VERSION:2.0
PRODID:-//Laure Cholé - ECPv6.5.0//NONSGML v1.0//EN
CALSCALE:GREGORIAN
METHOD:PUBLISH
X-ORIGINAL-URL:https://www.laurechole.com
X-WR-CALDESC:évènements pour Laure Cholé
REFRESH-INTERVAL;VALUE=DURATION:PT1H
X-Robots-Tag:noindex
X-PUBLISHED-TTL:PT1H
BEGIN:VTIMEZONE
TZID:Europe/Zurich
BEGIN:DAYLIGHT
TZOFFSETFROM:+0100
TZOFFSETTO:+0200
TZNAME:CEST
DTSTART:20260329T010000
END:DAYLIGHT
BEGIN:STANDARD
TZOFFSETFROM:+0200
TZOFFSETTO:+0100
TZNAME:CET
DTSTART:20261025T010000
END:STANDARD
END:VTIMEZONE
BEGIN:VEVENT
DTSTART;TZID=Europe/Zurich:20260428T173000
DTEND;TZID=Europe/Zurich:20260428T193000
DTSTAMP:20260419T172628
CREATED:20260108T135017Z
LAST-MODIFIED:20260108T135017Z
UID:30277-1777397400-1777404600@www.laurechole.com
SUMMARY:Auditorium\, Prince Rainier Académie
DESCRIPTION:Concert à l’auditorium Prince Rainier de l’Académie\, Monaco
URL:https://www.laurechole.com/event/auditorium-prince-rainier-academie/
LOCATION:Auditorium\, Prince Rainier Académie
END:VEVENT
END:VCALENDAR